BEGIN:VCALENDAR
VERSION:2.0
PRODID:-//WCCI - ECPv6.15.20//NONSGML v1.0//EN
CALSCALE:GREGORIAN
METHOD:PUBLISH
X-ORIGINAL-URL:https://worldchangers.org
X-WR-CALDESC:Events for WCCI
REFRESH-INTERVAL;VALUE=DURATION:PT1H
X-Robots-Tag:noindex
X-PUBLISHED-TTL:PT1H
BEGIN:VTIMEZONE
TZID:UTC
BEGIN:STANDARD
TZOFFSETFROM:+0000
TZOFFSETTO:+0000
TZNAME:UTC
DTSTART:20250101T000000
END:STANDARD
END:VTIMEZONE
BEGIN:VEVENT
DTSTART;TZID=UTC:20260424T190000
DTEND;TZID=UTC:20270226T213000
DTSTAMP:20260420T203141
CREATED:20240821T131004Z
LAST-MODIFIED:20260330T130421Z
UID:10000020-1777057200-1803677400@worldchangers.org
SUMMARY:The Spirit & Grace Tour
DESCRIPTION:Whether you’re a long-time partner\, a dedicated eMember\, or someone seeking change\, the Spirit and Grace Tour is for YOU! Creflo Dollar is traveling around the country to share a life-changing Word from the Lord that will strengthen your spiritual defenses and lead you into a life of faith\, confidence\, and joy. \nRegister Now
URL:https://worldchangers.org/wcci-event/the-spirit-grace-tour
ATTACH;FMTTYPE=image/jpeg:https://worldchangers.org/wp-content/uploads/2024/08/05212025_SpiritAndGrace_WebTile_422X225.jpg
END:VEVENT
BEGIN:VEVENT
DTSTART;TZID=UTC:20260502T110000
DTEND;TZID=UTC:20260502T133000
DTSTAMP:20260420T203141
CREATED:20240821T140814Z
LAST-MODIFIED:20260330T205038Z
UID:10000016-1777719600-1777728600@worldchangers.org
SUMMARY:Lemon Bliss 2026
DESCRIPTION:Step into a radiant\, joy-filled atmosphere where worship feels like celebration and every woman is seen\, valued\, and poured into. Lemon Bliss is more than an event—it’s a vibrant experience designed to uplift your spirit\, ignite your faith\, and surround you with genuine sisterhood. Expect powerful worship\, feel-good moments\, laughter\, and meaningful connection that lingers long after you leave. Whether you come with friends or on your own\, you’ll leave refreshed\, inspired\, and full. Don’t miss it—register today and secure your spot. \nRegister Now
URL:https://worldchangers.org/wcci-event/lemon-bliss-2026
LOCATION:World Changers Church International\, 2500 Burdett Road College Park\, GA 30349
ATTACH;FMTTYPE=image/png:https://worldchangers.org/wp-content/uploads/2025/03/422x225.png
END:VEVENT
BEGIN:VEVENT
DTSTART;TZID=UTC:20260510T100000
DTEND;TZID=UTC:20260510T120000
DTSTAMP:20260420T203141
CREATED:20240821T141145Z
LAST-MODIFIED:20260401T164340Z
UID:10000018-1778407200-1778414400@worldchangers.org
SUMMARY:Mother's Day Service
DESCRIPTION:Honoring Mothers through every season of life. \nWatch Live
URL:https://worldchangers.org/wcci-event/mothers-day-service
LOCATION:World Changers Church International\, 2500 Burdett Road College Park\, GA 30349
ATTACH;FMTTYPE=image/png:https://worldchangers.org/wp-content/uploads/2025/04/2ed577ce-94a7-4a9e-8543-09bc1f3f53f5_WCCI-Mothers-Day-Service-Web-Tile-422-x-225.png
END:VEVENT
END:VCALENDAR